BEGIN:VCALENDAR
VERSION:2.0
PRODID:-//Fit 4 The Cause - ECPv5.14.1//NONSGML v1.0//EN
CALSCALE:GREGORIAN
METHOD:PUBLISH
X-WR-CALNAME:Fit 4 The Cause
X-ORIGINAL-URL:https://fit4thecause.org
X-WR-CALDESC:Events for Fit 4 The Cause
BEGIN:VTIMEZONE
TZID:UTC
BEGIN:STANDARD
TZOFFSETFROM:+0000
TZOFFSETTO:+0000
TZNAME:UTC
DTSTART:20220101T000000
END:STANDARD
END:VTIMEZONE
BEGIN:VEVENT
DTSTART;TZID=UTC:20221105T120000
DTEND;TZID=UTC:20221105T150000
DTSTAMP:20260424T201439
CREATED:20220922T154110Z
LAST-MODIFIED:20221104T205940Z
UID:4238-1667649600-1667660400@fit4thecause.org
SUMMARY:Home Run Derby
DESCRIPTION:HELP US FINISH THIS SEASON WITH A HOME RUN!\nOur Batters Are Swinging for the Fences at the Fit 4 The Cause Home Run Derby \nSaturday\, November 5th\, 12-3PM \nTimed in conjunction with MLB’s World Series\, Fit 4 The Cause steps up to bat\, raising funds for its group exercise programs serving low-income communities. Over the last two years\, our non-profit’s service stats were higher than ever. Fit 4 The Cause\, Inc. really stepped up to the plate! While many others shutdown during the pandemic\, our coaches kept our players moving\, whether via Zoom\, outdoors at our Public Schools and Parks or socially distanced and masked. Each of our group fitness participants stayed healthy\, conditioned\, and socially engaged\, serving more than ever in our ten-year history. \nOur schools\, hospitals\, assisted living facilities and special needs partners are demanding more quality fitness programs for their constituents\, and we need our generous supporters to cover the costs! This way we can continue to serve our low- income beneficiaries with 6 days of group fitness programs including Yoga\, Zumba®\, Strength and Conditioning\, Boxing and Nutrition. \nPLEASE\, help us hit the ball out of the park! Your donations keep us all Champions-including our vulnerable children\, fragile seniors and young adults with special needs who all benefit from our group exercise programs. Support our batters-hitting the homers to continue filling the fitness voice in our local community. \nIf you are crowdfunding for this event or would like to support one of the batters by donating to their crowdfunding page: \nHome Run Derby Crowdfunding\n\n\nLiability Waiver – Please Download and Sign
URL:https://fit4thecause.org/event/home-run-derby/
LOCATION:Valley View Park\, 100 Los Arcos Dr\, Oak Park\, CA\, 91377\, United States
ATTACH;FMTTYPE=image/png:https://fit4thecause.org/wp-content/uploads/2022/09/homerunderby-logo.png
END:VEVENT
END:VCALENDAR